BEGIN:VCALENDAR
VERSION:2.0
PRODID:-// eRoom plugin //NONSGML v1.0//EN
CALSCALE:GREGORIAN
BEGIN:VEVENT
UID:eRoom-1776606121
SUMMARY:Resolve Error
LOCATION:Zoom
DESCRIPTION:Resolve Error is inviting you to a scheduled Zoom meeting.\n\nJ
 oin Zoom Meeting\nhttps://us04web.zoom.us/j/71731946531?pwd=j8w3i1BSpHOMa4
 78iTB8KVc5rKdRyq.1\n\nMeeting ID: 71731946531\nPasscode: 8NJUyt\n
URL;VALUE=URI:https://us04web.zoom.us/j/71731946531?pwd=j8w3i1BSpHOMa478iTB8KVc5rKdRyq.1
DTSTART:20220823T070000Z
DTEND:20220823T080000Z
DTSTAMP:20260419T134201Z
BEGIN:VALARM
ACTION:DISPLAY
DESCRIPTION:Reminder
TRIGGER;RELATED=START:-PT15M
END:VALARM
END:VEVENT
END:VCALENDAR