BEGIN:VCALENDAR
VERSION:2.0
PRODID:-// eRoom plugin //NONSGML v1.0//EN
CALSCALE:GREGORIAN
BEGIN:VEVENT
UID:eRoom-1777045006
SUMMARY:PROJECT DISCUSSION
LOCATION:Zoom
DESCRIPTION:PROJECT DISCUSSION is inviting you to a scheduled Zoom meeting.
 \n\nJoin Zoom Meeting\nhttps://us04web.zoom.us/j/72714623601?pwd=Cg6aBQWaX
 PzZcqY21a3LD88kwAeueC.1\n\nMeeting ID: 72714623601\nPasscode: P47dPN\n
URL;VALUE=URI:https://us04web.zoom.us/j/72714623601?pwd=Cg6aBQWaXPzZcqY21a3LD88kwAeueC.1
DTSTART:20220826T190000Z
DTEND:20220826T200000Z
DTSTAMP:20260424T153646Z
BEGIN:VALARM
ACTION:DISPLAY
DESCRIPTION:Reminder
TRIGGER;RELATED=START:-PT15M
END:VALARM
END:VEVENT
END:VCALENDAR